BEGIN:VCALENDAR
VERSION:2.0
PRODID:-//Blind Community Center of San Diego - ECPv6.15.20//NONSGML v1.0//EN
CALSCALE:GREGORIAN
METHOD:PUBLISH
X-WR-CALNAME:Blind Community Center of San Diego
X-ORIGINAL-URL:https://bccsd.org
X-WR-CALDESC:Events for Blind Community Center of San Diego
REFRESH-INTERVAL;VALUE=DURATION:PT1H
X-Robots-Tag:noindex
X-PUBLISHED-TTL:PT1H
BEGIN:VTIMEZONE
TZID:America/Los_Angeles
BEGIN:DAYLIGHT
TZOFFSETFROM:-0800
TZOFFSETTO:-0700
TZNAME:PDT
DTSTART:20210314T100000
END:DAYLIGHT
BEGIN:STANDARD
TZOFFSETFROM:-0700
TZOFFSETTO:-0800
TZNAME:PST
DTSTART:20211107T090000
END:STANDARD
BEGIN:DAYLIGHT
TZOFFSETFROM:-0800
TZOFFSETTO:-0700
TZNAME:PDT
DTSTART:20220313T100000
END:DAYLIGHT
BEGIN:STANDARD
TZOFFSETFROM:-0700
TZOFFSETTO:-0800
TZNAME:PST
DTSTART:20221106T090000
END:STANDARD
BEGIN:DAYLIGHT
TZOFFSETFROM:-0800
TZOFFSETTO:-0700
TZNAME:PDT
DTSTART:20230312T100000
END:DAYLIGHT
BEGIN:STANDARD
TZOFFSETFROM:-0700
TZOFFSETTO:-0800
TZNAME:PST
DTSTART:20231105T090000
END:STANDARD
END:VTIMEZONE
BEGIN:VEVENT
DTSTART;TZID=America/Los_Angeles:20220509T120000
DTEND;TZID=America/Los_Angeles:20220509T130000
DTSTAMP:20260421T133155
CREATED:20220517T011951Z
LAST-MODIFIED:20220517T011951Z
UID:13760-1652097600-1652101200@bccsd.org
SUMMARY:Beginning Spanish Class
DESCRIPTION:Taught by Nena \nJoin by phone\n+1-510-338-9438 USA Toll+\nAccess code: 623 586 039 \nJoin by computer: Click Here for WebEx Link\nAccess code: 623 586 039
URL:https://bccsd.org/event/beginning-spanish-class-2/
CATEGORIES:Spanish Class
END:VEVENT
BEGIN:VEVENT
DTSTART;TZID=America/Los_Angeles:20220502T130000
DTEND;TZID=America/Los_Angeles:20220502T143000
DTSTAMP:20260421T133155
CREATED:20220517T011703Z
LAST-MODIFIED:20220517T011703Z
UID:13758-1651496400-1651501800@bccsd.org
SUMMARY:Intermediate Spanish Class
DESCRIPTION:Taught by Nena \nJoin by phone\n+1-510-338-9438 USA Toll+\nAccess code: 623 586 039 \nJoin by computer: Click Here for WebEx Link\nAccess code: 623 586 039
URL:https://bccsd.org/event/intermediate-spanish-class/
CATEGORIES:Spanish Class
END:VEVENT
BEGIN:VEVENT
DTSTART;TZID=America/Los_Angeles:20220502T120000
DTEND;TZID=America/Los_Angeles:20220502T130000
DTSTAMP:20260421T133155
CREATED:20220517T003705Z
LAST-MODIFIED:20220517T003705Z
UID:13752-1651492800-1651496400@bccsd.org
SUMMARY:Beginning Spanish Class
DESCRIPTION:Taught by Nena \nJoin by phone\n+1-510-338-9438 USA Toll+\nAccess code: 623 586 039 \nJoin by computer: Click Here for WebEx Link\nAccess code: 623 586 039
URL:https://bccsd.org/event/beginning-spanish-class/
CATEGORIES:Spanish Class
END:VEVENT
END:VCALENDAR